
BEGIN:VCALENDAR
VERSION:2.0
PRODID:-//wp-events-plugin.com//7.2.3.1//EN
TZID:America/New_York
X-WR-TIMEZONE:America/New_York
BEGIN:VEVENT
UID:1806@stagecoachtc.com
DTSTART;TZID=America/New_York:20230318T100000
DTEND;TZID=America/New_York:20230318T120000
DTSTAMP:20230107T065453Z
URL:https://www.stagecoachtc.com/events/auditions-for-disco-is-dead/
SUMMARY:Auditions for Disco is Dead
DESCRIPTION:\n\nMurder Mystery Dinner Theatre\nWritten by Terry Smith and V
 eneé Galloway\nProduced by Jerri Wiseman\nDirected by Jeffrey Nattania\n\
 nDonny Strut performed his final disco move under the flickering mirror ba
 ll just before the lights went out – forever. His naked body was found i
 n the middle of Groove Café\, a popular night club. Was it murder – or 
 just a disco dance move gone horribly wrong? Come join us for a night of d
 ance\, laughter and intrigue as you try to figure out whodunnit. Only one 
 of you know the truth.\n\nBoogie on over in your disco threads! Dressing u
 p and dancing are highly encouraged! We’ll catch you on the flip side!\n
 \nAuditions will be held on Saturday\, March 18 from 10:00am – 12:00 noo
 n. Please sign up for an audition time and complete the audition form. Pl
 ease prepare a 1-minute comedic monologue and prepare for cold readings fr
 om the script. Send a headshot and resume to info @ stagecoachtc (dot) com
 .\n\nPerformances will be held June – August on predetermined weekends. 
 We are willing to work with cast availability amidst summer vacation sched
 ules.
CATEGORIES:Audition
LOCATION:StageCoach Theatre Company\, 20937 Ashburn Road\, Ashburn\, VA\, 2
 0147\, Loudoun County\, United States
GEO:39.0389993;-77.486985
X-APPLE-STRUCTURED-LOCATION;VALUE=URI;X-ADDRESS=20937 Ashburn Road\, Ashbur
 n\, VA\, 20147\, Loudoun County\, United States;X-APPLE-RADIUS=100;X-TITLE
 =StageCoach Theatre Company:geo:39.0389993,-77.486985
END:VEVENT
BEGIN:VTIMEZONE
TZID:America/New_York
X-LIC-LOCATION:America/New_York
BEGIN:DAYLIGHT
DTSTART:20230312T030000
TZOFFSETFROM:-0500
TZOFFSETTO:-0400
TZNAME:EDT
END:DAYLIGHT
END:VTIMEZONE
END:VCALENDAR