
BEGIN:VCALENDAR
VERSION:2.0
PRODID:-//wp-events-plugin.com//7.2.3.1//EN
TZID:America/New_York
X-WR-TIMEZONE:America/New_York
BEGIN:VEVENT
UID:1822@stagecoachtc.com
DTSTART;TZID=America/New_York:20230415T120000
DTEND;TZID=America/New_York:20230415T140000
DTSTAMP:20230329T221609Z
URL:https://www.stagecoachtc.com/events/auditions-for-rated-s-3/
SUMMARY:Auditions for Rated S
DESCRIPTION:\nDirected by Mike Brennan\n\nAuditions will be held on Satur
 day\, April 15 from 12:00 noon – 2:00pm at StageCoach Theater\, 20937 
 Ashburn Rd. Suite 240\, Ashburn\, VA 20147.\n\nPlease select a time via Si
 gn Up Genius. Virtual auditions via Zoom will be available on request.\n\
 nAuditions will consist of a one-minute MEMORIZED comedic monologue along 
 with cold readings from select Rated S sketch scripts.\n\nPlease email us 
 your resume and headshot to itsaskitshow@gmail.com . No resume? No heads
 hot? No worries. Just try to make us laugh in your email (as we are also l
 ooking for aspiring sketch comedy writers). Rated S meets primarily on Sun
 day afternoons and evenings. This opportunity is currently UNPAID\, althou
 gh stipends may be available depending upon ticket sales and booking rates
 .\n\n&nbsp\;
CATEGORIES:Audition
LOCATION:StageCoach Theatre Company\, 20937 Ashburn Road\, Ashburn\, VA\, 2
 0147\, Loudoun County\, United States
GEO:39.0389993;-77.486985
X-APPLE-STRUCTURED-LOCATION;VALUE=URI;X-ADDRESS=20937 Ashburn Road\, Ashbur
 n\, VA\, 20147\, Loudoun County\, United States;X-APPLE-RADIUS=100;X-TITLE
 =StageCoach Theatre Company:geo:39.0389993,-77.486985
END:VEVENT
BEGIN:VTIMEZONE
TZID:America/New_York
X-LIC-LOCATION:America/New_York
BEGIN:DAYLIGHT
DTSTART:20230312T030000
TZOFFSETFROM:-0500
TZOFFSETTO:-0400
TZNAME:EDT
END:DAYLIGHT
END:VTIMEZONE
END:VCALENDAR