
BEGIN:VCALENDAR
VERSION:2.0
PRODID:-//wp-events-plugin.com//7.2.3.1//EN
TZID:America/New_York
X-WR-TIMEZONE:America/New_York
BEGIN:VEVENT
UID:1821@stagecoachtc.com
DTSTART;TZID=America/New_York:20230415T110000
DTEND;TZID=America/New_York:20230415T150000
DTSTAMP:20230329T221349Z
URL:https://www.stagecoachtc.com/events/auditions-for-summer-camp-musical-
 intensives-4/
SUMMARY:Auditions for Summer Camp Musical Intensives
DESCRIPTION:\n\n\nAuditions for Summer Camp Musical Intensives School of R
 ock and 9 to 5\nJuly 12 - 23 School of Rock Summer Camp Intensive for ages
  10 - 19\n\nJuly 31 - 11 9 to 5 Summer Camp Intensive for ages 14 - 19\n\n
 &nbsp\;\n\nAuditions for both camps will be held April 15 from 11:00am –
  3:00pm. Sign up for an audition slot and complete the audition form.\n\
 nSchool of Rock camp rehearsals will be held Monday – Friday June 12 
 – 16\, 19 – 23. 9:00am – 4:00pm with performances June 23\, 24\, 30
 \, July 1 at 7pm\, June 25 and July 2 at 2pm.\n\nAndrew Lloyd Webber’s a
 ward-winning smash hit musical premiered on Broadway in 2015\, and has sin
 ce been seen on stages around the globe! Based on the hilarious hit movie\
 , this new musical follows Dewey Finn\, a failed\, wannabe rock star who d
 ecides to earn a few extra bucks by posing as a substitute teacher at a pr
 estigious prep school. There he turns a class of straight-A students into 
 a guitar-shredding\, bass-slapping\, mind-blowing rock band. \n\n\n\n9 to
  5 camp rehearsals will be held Monday – Friday July 31 – Aug 4\, Aug
  7 – 11 from 9:00am – 4:00pm with performances August 11\, 12\, 18\, 
 19 at 7:00pm\, August 13 &amp\; 20 at 2:00pm.\n\n9 to 5 The Musical\, with
  music and lyrics by Dolly Parton and book by Patricia Resnick\, is based 
 on the seminal 1980 hit movie. Set in the late 1970s. this hilarious story
  of friendship and revenge in the Rolodex era is outrageous\, thought-prov
 oking and even a little romantic. Pushed to the boiling point\, three fema
 le coworkers concoct a plan to get even with the sexist\, egotistical\, ly
 ing\, hypocritical bigot they call their boss. In a hilarious turn of even
 ts\, Violet\, Judy and Doralee live out their wildest fantasy – giving t
 heir boss the boot! While Hart remains “otherwise engaged\,” the women
  give their workplace a dream makeover\, taking control of the company tha
 t had always kept them down. Hey\, a girl can scheme\, can’t she?
CATEGORIES:Audition
LOCATION:StageCoach Theatre Company\, 20937 Ashburn Road\, Ashburn\, VA\, 2
 0147\, Loudoun County\, United States
GEO:39.0389993;-77.486985
X-APPLE-STRUCTURED-LOCATION;VALUE=URI;X-ADDRESS=20937 Ashburn Road\, Ashbur
 n\, VA\, 20147\, Loudoun County\, United States;X-APPLE-RADIUS=100;X-TITLE
 =StageCoach Theatre Company:geo:39.0389993,-77.486985
END:VEVENT
BEGIN:VTIMEZONE
TZID:America/New_York
X-LIC-LOCATION:America/New_York
BEGIN:DAYLIGHT
DTSTART:20230312T030000
TZOFFSETFROM:-0500
TZOFFSETTO:-0400
TZNAME:EDT
END:DAYLIGHT
END:VTIMEZONE
END:VCALENDAR