
BEGIN:VCALENDAR
VERSION:2.0
PRODID:-//wp-events-plugin.com//7.2.3.1//EN
TZID:America/New_York
X-WR-TIMEZONE:America/New_York
BEGIN:VEVENT
UID:1807@stagecoachtc.com
DTSTART;TZID=America/New_York:20230204T110000
DTEND;TZID=America/New_York:20230204T140000
DTSTAMP:20230107T115311Z
URL:https://www.stagecoachtc.com/events/auditions-for-the-spongebob-musica
 l/
SUMMARY:Auditions for The SpongeBob Musical
DESCRIPTION:\nThe SpongeBob Musical: Youth Edition\nBased on the series by 
 Stephen Hillenburg\nBook by Kyle Jarrow\n\nThe stakes are higher than ever
  in this dynamic stage musical\, as SpongeBob and all of Bikini Bottom fac
 e the total annihilation of their undersea world. Chaos erupts. Lives hang
  in the balance. And just when all hope seems lost\, a most unexpected her
 o rises up and takes center stage. The power of optimism really can save t
 he world!\n\nThe SpongeBob Musical is based on the beloved animated series
  created by Stephen Hillenburg and features a book by Kyle Jarrow\, with o
 riginal songs by Yolanda Adams\, Steven Tyler and Joe Perry of Aerosmith\,
  Sara Bareilles\, Jonathan Coulton\, Alexander Ebert of Edward Sharpe &amp
 \; The Magnetic Zeros\, The Flaming Lips\, Lady A\, Cyndi Lauper\, John Le
 gend\, Panic! At the Disco\, Plain White T’s\, They Might Be Giants and 
 T.I.\, and songs by David Bowie\, Tom Kenny and Andy Paley. Additional lyr
 ics are by Jonathan Coulton\, with additional music by Tom Kitt. The music
 al production was conceived by Tina Landau.\n\n&nbsp\;\n\nProduced by Jerr
 i Wiseman\n\nDirected by Torie Dunlap and Linda Cirba\n\nAssistant Directe
 d by Heidi Dodd\n\nOpen to ages 8 – 14\n\nAuditions will be held Februar
 y 4 from 11:00am – 2:00pm at StageCoach Theatre in Ashburn. Click here
  for more information and to sign up for an audition time.\n\nCallbacks w
 ill be held February 12 from 10:00am – 1:00pm.\n\nRehearsals will be hel
 d Tuesdays and Thursdays from 7:00 – 8:30pm from February – May.\n\nPe
 rformances will be held May 13\, 20 and 21 at 2:00pm.\n\nThe SpongeBob Mus
 ical is part of our Spring Camp program. Tuition will be assessed of all t
 hose who are cast. Scholarships are available through the StageCoach Found
 ation\, Inc. \n\nNickelodeon\, SpongeBob SquarePants\, and all related ti
 tles\, logos and characters are trademarks of Viacom International Inc.
CATEGORIES:Audition
LOCATION:StageCoach Theatre Company\, 20937 Ashburn Road\, Ashburn\, VA\, 2
 0147\, Loudoun County\, United States
GEO:39.0389993;-77.486985
X-APPLE-STRUCTURED-LOCATION;VALUE=URI;X-ADDRESS=20937 Ashburn Road\, Ashbur
 n\, VA\, 20147\, Loudoun County\, United States;X-APPLE-RADIUS=100;X-TITLE
 =StageCoach Theatre Company:geo:39.0389993,-77.486985
END:VEVENT
BEGIN:VTIMEZONE
TZID:America/New_York
X-LIC-LOCATION:America/New_York
BEGIN:STANDARD
DTSTART:20221106T010000
TZOFFSETFROM:-0400
TZOFFSETTO:-0500
TZNAME:EST
END:STANDARD
END:VTIMEZONE
END:VCALENDAR