
BEGIN:VCALENDAR
VERSION:2.0
PRODID:-//wp-events-plugin.com//7.2.3.1//EN
TZID:America/New_York
X-WR-TIMEZONE:America/New_York
BEGIN:VEVENT
UID:1820@stagecoachtc.com
DTSTART;TZID=America/New_York:20230415T110000
DTEND;TZID=America/New_York:20230415T120000
DTSTAMP:20230329T220238Z
URL:https://www.stagecoachtc.com/events/bada-bing-its-spring-2/
SUMMARY:Bada Bing\, It's Spring Musical Theatre Class
DESCRIPTION:Spring is just around the corner\, but the flowers have yet to 
 bloom. While the children are waiting for nice weather\, the weeds have po
 pped up but the flowers remain hidden underground. It takes the clever Dan
 delion Queen to figure out why and bring about the first blossoms of the s
 eason. Through a variety of games\, activities\, and rehearsals for our fi
 nal performance\, students will learn the basics of singing\, dancing\, an
 d acting. They will work collaboratively with their peers as instructors g
 uide students through exercises designed to build their confidence\, enhan
 ce their communication skills\, and spark their creativity\, all while hav
 ing tons of fun!\n\nInstructor: Natalia Settipani\nVenue: StageCoach Theat
 re\, 20937 Ashburn Road\, Suite 240\, Ashburn\, VA 20147\n\nA minimum of 4
  students is required to run this class. Maximum of 10 students.\nOpen to 
 ages 8 – 12.\n\nClasses will start April 15 and end with a showcase on J
 une 3. Class time is 11:00 – 12:00 noon at the StageCoach Theatre in Ash
 burn.\nMore information on the showcase will be provided by the instructor
  once classes start. All students must be available for the showcase.\n\n$
 200 + $5.95 service fee\nRegister here.\n
CATEGORIES:After-school class
LOCATION:StageCoach Theatre Company\, 20937 Ashburn Road\, Ashburn\, VA\, 2
 0147\, Loudoun County\, United States
GEO:39.0389993;-77.486985
X-APPLE-STRUCTURED-LOCATION;VALUE=URI;X-ADDRESS=20937 Ashburn Road\, Ashbur
 n\, VA\, 20147\, Loudoun County\, United States;X-APPLE-RADIUS=100;X-TITLE
 =StageCoach Theatre Company:geo:39.0389993,-77.486985
END:VEVENT
BEGIN:VTIMEZONE
TZID:America/New_York
X-LIC-LOCATION:America/New_York
BEGIN:DAYLIGHT
DTSTART:20230312T030000
TZOFFSETFROM:-0500
TZOFFSETTO:-0400
TZNAME:EDT
END:DAYLIGHT
END:VTIMEZONE
END:VCALENDAR