
BEGIN:VCALENDAR
VERSION:2.0
PRODID:-//wp-events-plugin.com//7.2.3.1//EN
TZID:America/New_York
X-WR-TIMEZONE:America/New_York
BEGIN:VEVENT
UID:1808@stagecoachtc.com
DTSTART;TZID=America/New_York:20230210T183000
DTEND;TZID=America/New_York:20230210T210000
DTSTAMP:20230110T014938Z
URL:https://www.stagecoachtc.com/events/dearly-beloved-and-departed-at-bel
 ly-love-brewing/
SUMMARY:Dearly Beloved and Departed at Belly Love Brewing
DESCRIPTION:\n\n\n\nDearly Beloved and Departed\nA Murder Mystery Party\nW
 ritten by Terry Smith\nProduced by Jerri Wiseman\n\nDirected by R. Aaron T
 hompson\n\nDrucilla and Chuck invite you to the wedding of the century. Th
 e richest woman in the world\, Drucilla Long\, is getting married to a nob
 ody – a true rags-to-riches story.  But in the middle of her wedding\, 
 tragedy strikes. Drucilla never makes it to the altar. Was it the mother-i
 n-law\, a mafia hit gone wrong\, or something more sinister? Come listen t
 o clues\, participate in the mystery\, and find the murderer before they k
 ill again.\n\nPerformance will be held February 10\, 2023. \nBelly Love B
 rewing in Purcellville –  February 10\, 2023\nBelly Love Brewing Compa
 ny\, 725 E Main St Purcellville\, VA 20132\nDoors open at 6:30pm. Show at 
 7:00pm. Please arrive at 6:30pm.\n\nTickets: $29 + fee = $32.78 per person
  for the show. Beverages and snacks from the bar will be available for sep
 arate purchase.\n\n\nReserve your seats for Belly Love Brewing
CATEGORIES:Murder Mystery
LOCATION:Belly Love Brewing Company\, 725 E Main St\, Purcellville\, VA\, 2
 0132\, United States
X-APPLE-STRUCTURED-LOCATION;VALUE=URI;X-ADDRESS=725 E Main St\, Purcellvill
 e\, VA\, 20132\, United States;X-APPLE-RADIUS=100;X-TITLE=Belly Love Brewi
 ng Company:geo:0,0
END:VEVENT
BEGIN:VTIMEZONE
TZID:America/New_York
X-LIC-LOCATION:America/New_York
BEGIN:STANDARD
DTSTART:20221106T010000
TZOFFSETFROM:-0400
TZOFFSETTO:-0500
TZNAME:EST
END:STANDARD
END:VTIMEZONE
END:VCALENDAR