
BEGIN:VCALENDAR
VERSION:2.0
PRODID:-//wp-events-plugin.com//7.2.3.1//EN
TZID:America/New_York
X-WR-TIMEZONE:America/New_York
BEGIN:VEVENT
UID:1810@stagecoachtc.com
DTSTART;TZID=America/New_York:20230314T193000
DTEND;TZID=America/New_York:20230314T213000
DTSTAMP:20230220T170003Z
URL:https://www.stagecoachtc.com/events/improv-workshop-march-14/
SUMMARY:Improv Workshop
DESCRIPTION:\n\n\n\nImprov Workshop with John Waldron\nTuesday\, March 14 f
 rom 7:30 – 9:30pm\n\nStageCoach Theatre\, 20937 Ashburn Road\, Suites 11
 5 and 120\, Ashburn\, VA 20147\n\nCost: $30/person + $3.00 registration fe
 e\n\nIntended for ages 16 – Adult.\n\nEnjoy an evening of improvisation!
  Through theatre games and short form improv exercises\, you’ll learn th
 e art of thinking fast on your feet and telling a story. Fabulous fun for 
 everyone!\n\n\n\nRegister for Improv Workshop
CATEGORIES:Theatre Workshop
LOCATION:StageCoach Theatre Company\, 20937 Ashburn Road\, Ashburn\, VA\, 2
 0147\, Loudoun County\, United States
GEO:39.0389993;-77.486985
X-APPLE-STRUCTURED-LOCATION;VALUE=URI;X-ADDRESS=20937 Ashburn Road\, Ashbur
 n\, VA\, 20147\, Loudoun County\, United States;X-APPLE-RADIUS=100;X-TITLE
 =StageCoach Theatre Company:geo:39.0389993,-77.486985
END:VEVENT
BEGIN:VTIMEZONE
TZID:America/New_York
X-LIC-LOCATION:America/New_York
BEGIN:DAYLIGHT
DTSTART:20230312T030000
TZOFFSETFROM:-0500
TZOFFSETTO:-0400
TZNAME:EDT
END:DAYLIGHT
END:VTIMEZONE
END:VCALENDAR