
BEGIN:VCALENDAR
VERSION:2.0
PRODID:-//wp-events-plugin.com//7.2.3.1//EN
TZID:America/New_York
X-WR-TIMEZONE:America/New_York
BEGIN:VEVENT
UID:1812@stagecoachtc.com
DTSTART;TZID=America/New_York:20230412T150000
DTEND;TZID=America/New_York:20230412T180000
DTSTAMP:20230329T215157Z
URL:https://www.stagecoachtc.com/events/private-event-consulting-detective
 s-6/
SUMMARY:Private Event - Consulting Detectives
DESCRIPTION:\n\nWednesday\, April 12 - a private mystery adventure for a co
 mpany party\n\n&nbsp\;
CATEGORIES:Mystery Adventure
LOCATION:StageCoach Theatre Company\, 20937 Ashburn Road\, Ashburn\, VA\, 2
 0147\, Loudoun County\, United States
GEO:39.0389993;-77.486985
X-APPLE-STRUCTURED-LOCATION;VALUE=URI;X-ADDRESS=20937 Ashburn Road\, Ashbur
 n\, VA\, 20147\, Loudoun County\, United States;X-APPLE-RADIUS=100;X-TITLE
 =StageCoach Theatre Company:geo:39.0389993,-77.486985
END:VEVENT
BEGIN:VTIMEZONE
TZID:America/New_York
X-LIC-LOCATION:America/New_York
BEGIN:DAYLIGHT
DTSTART:20230312T030000
TZOFFSETFROM:-0500
TZOFFSETTO:-0400
TZNAME:EDT
END:DAYLIGHT
END:VTIMEZONE
END:VCALENDAR