
BEGIN:VCALENDAR
VERSION:2.0
PRODID:-//wp-events-plugin.com//7.2.3.1//EN
TZID:America/New_York
X-WR-TIMEZONE:America/New_York
BEGIN:VEVENT
UID:1811@stagecoachtc.com
DTSTART;TZID=America/New_York:20230403T090000
DTEND;TZID=America/New_York:20230407T150000
DTSTAMP:20230329T214758Z
URL:https://www.stagecoachtc.com/events/spring-break-cabaret-camp/
SUMMARY:Spring Break Cabaret Camp
DESCRIPTION:Meow-sical Adventures: An Aristo-cat-ic Musical Theatre Camp\nD
 irected by Natalia Settipani\nJoin us for a week of feline fun and musical
  magic in our Aristocats-themed spring break camp! Throughout the week\, s
 tudents will unleash their inner meow and learn the ins and outs of music 
 theatre. Our week will conclude with a cabaret-style performance including
  songs from the hit movie Aristocats such as the classic “Scales and Arp
 eggios” to fan favorite\, “Ev’rybody Wants to be a Cat.” It’s be
  the purrfect opportunity to let your inner cat shine on stage! \n\nOpen 
 to ages 6 – 14\n\nCamp: Monday – Friday\, April 3 – 7 from 9:00am 
 – 3:00pm\nPerformance on Friday April 3 at 2:30pm\n\nTuition: $350 + $5.
 95 service fee\nStudents should plan to bring their own snack\, lunch\, an
 d bottled water.
CATEGORIES:Camp
LOCATION:StageCoach Theatre Company\, 20937 Ashburn Road\, Ashburn\, VA\, 2
 0147\, Loudoun County\, United States
GEO:39.0389993;-77.486985
X-APPLE-STRUCTURED-LOCATION;VALUE=URI;X-ADDRESS=20937 Ashburn Road\, Ashbur
 n\, VA\, 20147\, Loudoun County\, United States;X-APPLE-RADIUS=100;X-TITLE
 =StageCoach Theatre Company:geo:39.0389993,-77.486985
END:VEVENT
BEGIN:VTIMEZONE
TZID:America/New_York
X-LIC-LOCATION:America/New_York
BEGIN:DAYLIGHT
DTSTART:20230312T030000
TZOFFSETFROM:-0500
TZOFFSETTO:-0400
TZNAME:EDT
END:DAYLIGHT
END:VTIMEZONE
END:VCALENDAR