
BEGIN:VCALENDAR
VERSION:2.0
PRODID:-//wp-events-plugin.com//7.2.3.1//EN
TZID:America/New_York
X-WR-TIMEZONE:America/New_York
BEGIN:VEVENT
UID:1809@stagecoachtc.com
DTSTART;TZID=America/New_York:20230303T193000
DTEND;TZID=America/New_York:20230303T210000
DTSTAMP:20230112T224748Z
URL:https://www.stagecoachtc.com/events/the-night-of-the-divas-drag-cabare
 t/
SUMMARY:The Night of the Divas Drag Cabaret
DESCRIPTION:\n\nA live-singing drag diva EVENT!!\n\nFeaturing the stars of 
 the DMC drag cabaret world and hosted by the queen of the divas\, Joan Cra
 wford herself! Join us for a night of music\, laughs\, slap fights\, and s
 urprises. Get your tickets early!\n\nAnd while you’re here\, don’t mis
 s the chance to get tickets for “Legends and Bridge” co-starring Anj
 a Dick\, as Joan Crawford. Every weekend in March.\n\nFriday\, March 3 at
  StageCoach Theatre\, 20937 Ashburn Road\, Suites 115 and 120\, Ashburn\, 
 VA 20147\n\nDoors open at 7:00pm. Show begins at 7:30pm.\n\nAdmission: $25
  + $3 service fee per person. Reservations are strongly recommended. Onli
 ne reservations will close at 5:30pm on the day of the event and tickets c
 an then be purchased at the door\, pending availability.\n\nRecommended fo
 r ages 18+\n\nMake your reservations here. 
CATEGORIES:Drag Show
LOCATION:StageCoach Theatre Company\, 20937 Ashburn Road\, Ashburn\, VA\, 2
 0147\, Loudoun County\, United States
GEO:39.0389993;-77.486985
X-APPLE-STRUCTURED-LOCATION;VALUE=URI;X-ADDRESS=20937 Ashburn Road\, Ashbur
 n\, VA\, 20147\, Loudoun County\, United States;X-APPLE-RADIUS=100;X-TITLE
 =StageCoach Theatre Company:geo:39.0389993,-77.486985
END:VEVENT
BEGIN:VTIMEZONE
TZID:America/New_York
X-LIC-LOCATION:America/New_York
BEGIN:STANDARD
DTSTART:20221106T010000
TZOFFSETFROM:-0400
TZOFFSETTO:-0500
TZNAME:EST
END:STANDARD
END:VTIMEZONE
END:VCALENDAR